BEGIN:VCALENDAR
VERSION:2.0
PRODID:-//S. A. Esperia - ECPv6.15.20//NONSGML v1.0//EN
CALSCALE:GREGORIAN
METHOD:PUBLISH
X-ORIGINAL-URL:https://www.svesperia.nl
X-WR-CALDESC:Events for S. A. Esperia
REFRESH-INTERVAL;VALUE=DURATION:PT1H
X-Robots-Tag:noindex
X-PUBLISHED-TTL:PT1H
BEGIN:VTIMEZONE
TZID:Europe/Amsterdam
BEGIN:DAYLIGHT
TZOFFSETFROM:+0100
TZOFFSETTO:+0200
TZNAME:CEST
DTSTART:20220327T010000
END:DAYLIGHT
BEGIN:STANDARD
TZOFFSETFROM:+0200
TZOFFSETTO:+0100
TZNAME:CET
DTSTART:20221030T010000
END:STANDARD
BEGIN:DAYLIGHT
TZOFFSETFROM:+0100
TZOFFSETTO:+0200
TZNAME:CEST
DTSTART:20230326T010000
END:DAYLIGHT
BEGIN:STANDARD
TZOFFSETFROM:+0200
TZOFFSETTO:+0100
TZNAME:CET
DTSTART:20231029T010000
END:STANDARD
BEGIN:DAYLIGHT
TZOFFSETFROM:+0100
TZOFFSETTO:+0200
TZNAME:CEST
DTSTART:20240331T010000
END:DAYLIGHT
BEGIN:STANDARD
TZOFFSETFROM:+0200
TZOFFSETTO:+0100
TZNAME:CET
DTSTART:20241027T010000
END:STANDARD
END:VTIMEZONE
BEGIN:VEVENT
DTSTART;TZID=Europe/Amsterdam:20230628T180000
DTEND;TZID=Europe/Amsterdam:20230628T220000
DTSTAMP:20260421T235422
CREATED:20230614T105856Z
LAST-MODIFIED:20230628T065058Z
UID:1978-1687975200-1687989600@www.svesperia.nl
SUMMARY:Esperia's End of the Year Barbeque
DESCRIPTION:Dear Esperians\, \nIt is time to end this academic year with a bang!💥As the tradition dictates we must come together and celebrate the last year the only way we know how\, with an amazing Esperia Barbeque. 🍖😌We hope you will come and share some drinks and food with us.🍸 Speaking of drinks\, a little piggy whispered to me that the Charicie will sell some cocktails as well\, not one but two different kinds.🍹This year you can choose from the classic Esperia Blue Lagoon and Mojito.💚💙 Costs for this activity are €8\,50 for members and €12 for non-members. If you wish to sign up please make sure to sign up until the 26th of June using this link: https://forms.gle/4jAWLqgAo7E6rHJ89😉 \nP.s. Make sure to bring your own cutlery❗️ \nLove\, the Accie
URL:https://www.svesperia.nl/event/esperias-end-of-the-year-barbeque/
LOCATION:Hoornseplas\, Kaapse Baan 1\, Haren\, Groningen\, 9752XP\, Netherlands
ATTACH;FMTTYPE=image/jpeg:https://www.svesperia.nl/wp-content/uploads/2023/06/035c535b-6c3d-4c4e-9fcc-4ecadf5db8f9.jpeg
END:VEVENT
BEGIN:VEVENT
DTSTART;TZID=Europe/Amsterdam:20230621T210000
DTEND;TZID=Europe/Amsterdam:20230621T233000
DTSTAMP:20260421T235422
CREATED:20230608T134535Z
LAST-MODIFIED:20230608T204109Z
UID:1959-1687381200-1687390200@www.svesperia.nl
SUMMARY:Almanac Release Party
DESCRIPTION:❗️📣Dear Esperians📣❗️ \nThe Almanaccie is proud to announce everyone that this year’s Almanac is being released on the 21st of June! To celebrate the occasion\, come on down to de Doos at 21:00 so you can pick up your very own almanac!\nAnd since the theme is movies\, (🥁drum rolls please🥁) we encourage you to come dressed as your favorite movie character! \nWe’re excited to see you there!\nThe Almanaccie 💙
URL:https://www.svesperia.nl/event/almanac-release-party/
LOCATION:Feestcafé De Doos\, Gelkingestraat 11\, Groningen
ATTACH;FMTTYPE=image/jpeg:https://www.svesperia.nl/wp-content/uploads/2023/06/WhatsApp-Image-2023-06-07-at-17.34.16.jpeg
END:VEVENT
BEGIN:VEVENT
DTSTART;TZID=Europe/Amsterdam:20230619T200000
DTEND;TZID=Europe/Amsterdam:20230619T230000
DTSTAMP:20260421T235422
CREATED:20230608T203817Z
LAST-MODIFIED:20230608T203817Z
UID:1972-1687204800-1687215600@www.svesperia.nl
SUMMARY:Languagecie: midsommar activity
DESCRIPTION:Hej Esperians\, \nThe languagecie would like to present the final language of the month: Swedish! 🌞The weather is getting warmer and midsommar is getting closer\, a perfect combination for us to already celebrate it in the Netherlands! Join us for a night full of Swedish food\, drinks\, music and games\, where we will make flower crowns together and dance around the Maypole!🧝‍♂️ The dress code for this evening is of course yellow/blue🇸🇪\, but if you have something traditionally Swedish\, don’t hesitate to wear it! We all hope you are as exctited as we are\, ha roligt! \nWith love\,\nthe Languagecie
URL:https://www.svesperia.nl/event/languagecie-midsommar-activity/
LOCATION:Stadspark\, Concourslaan 7\, Groningen\, Netherlands
ATTACH;FMTTYPE=image/jpeg:https://www.svesperia.nl/wp-content/uploads/2023/06/midsommar-1-1.jpeg
ORGANIZER;CN="Languagecie":MAILTO:languagecie@svesperia.nl
END:VEVENT
BEGIN:VEVENT
DTSTART;TZID=Europe/Amsterdam:20230617T180000
DTEND;TZID=Europe/Amsterdam:20230617T200000
DTSTAMP:20260421T235422
CREATED:20230608T203343Z
LAST-MODIFIED:20230614T095219Z
UID:1967-1687024800-1687032000@www.svesperia.nl
SUMMARY:Alumni Activity
DESCRIPTION:Dear (alumni) members\, \nSoon it is time for our alumni activity! On Saturday the 17th of June\, we will be playing pool from 18:00 until 20:00 @ Poolcafé Streetlife. 🎱 We hope to see many of you during a night full of playing 8ball and catching up with the alumni! 👯‍♂️ The first two consumptions are included in the price🍻 \nSign up via: https://forms.gle/u7tp94VuAnjot25PA \nWe hope to see many of you! \nLove\,\nBoard X💙
URL:https://www.svesperia.nl/event/alumni-activity/
LOCATION:Streetlife Groningen\, Peperstraat 16\, Groningen\, 9711 PD\, Netherlands
ATTACH;FMTTYPE=image/jpeg:https://www.svesperia.nl/wp-content/uploads/2023/06/Alumni-activitiy.jpeg
END:VEVENT
BEGIN:VEVENT
DTSTART;TZID=Europe/Amsterdam:20230615T143000
DTEND;TZID=Europe/Amsterdam:20230615T163000
DTSTAMP:20260421T235422
CREATED:20230614T095141Z
LAST-MODIFIED:20230614T095141Z
UID:1982-1686839400-1686846600@www.svesperia.nl
SUMMARY:Accie presents: Canoeing
DESCRIPTION:Dear Esperians\, \nWhen you live in Groningen there are certain things you must do while you’re here\, like climbing the Martinitoren or going on a trip on the canals\, either with a boat or…. a canoe. 🛶🤗You are so lucky we are here to help you with that! We would love to see you join us for an hour and a half of magical time around the city.💦😉 Costs for this activity are €7\,50 for members and €10 for non- members. If this idea excites you do not hesitate to join us using the link here until the 14th of June: https://forms.gle/tPss9PnePAeT61ar6 \nLove\, the Accie
URL:https://www.svesperia.nl/event/accie-presents-canoeing/
LOCATION:Bedrijfnat\, Herebrug 1\, Groningen\, 9711 GB\, Netherlands
ATTACH;FMTTYPE=image/jpeg:https://www.svesperia.nl/wp-content/uploads/2023/06/facebook-1.jpeg
END:VEVENT
BEGIN:VEVENT
DTSTART;TZID=Europe/Amsterdam:20230614T210000
DTEND;TZID=Europe/Amsterdam:20230614T233000
DTSTAMP:20260421T235422
CREATED:20230608T202547Z
LAST-MODIFIED:20230614T093210Z
UID:1964-1686776400-1686785400@www.svesperia.nl
SUMMARY:Professions Social + ETCetera release
DESCRIPTION:Dear Esperians\, \nThe last social of the year will take place and the theme will be future professions.🧑‍💻😆Soon some of you are graduating and need to think of the future so maybe some of the costumes of your fellow Esperians could inspire you\, or you could just join for some good company.🥰 Talking about your fellow ‘Esperians’\, the last issue of the ETCetera is entitled “ An Image of Esperia”\, so make sure you grab one while you are there and support the hard work of the Editorcie.😉 \nLove\, Accie and Editoricie❤️💙
URL:https://www.svesperia.nl/event/professions-social-etcetera-release/
LOCATION:‘t Gat van Groningen\, Poelestraat 51\, Groningen\, Groningen\, 9711 PK
ATTACH;FMTTYPE=image/jpeg:https://www.svesperia.nl/wp-content/uploads/2023/06/preofessions-social-.jpeg
END:VEVENT
BEGIN:VEVENT
DTSTART;TZID=Europe/Amsterdam:20230612T190000
DTEND;TZID=Europe/Amsterdam:20230612T210000
DTSTAMP:20260421T235422
CREATED:20230530T174144Z
LAST-MODIFIED:20230530T174144Z
UID:1910-1686596400-1686603600@www.svesperia.nl
SUMMARY:General Members Assembly
DESCRIPTION:Dear Esperians\, \nWe would like to invite you to the fourth General Members Assembly (GMA) of this academic year💙. The assembly will take place on Monday the 12th of June 2023 at 19:00. This GMA will be held at Kroeg van Klaas (Oosterweg 26). At this GMA\, the Candidate Board will be installed🥳 \nWe look forward to seeing you.
URL:https://www.svesperia.nl/event/general-members-assembly/
LOCATION:kroeg van Klaas\, Oosterweg 26\, Groningen\, Groningen\, 9724 CJ
ATTACH;FMTTYPE=image/jpeg:https://www.svesperia.nl/wp-content/uploads/2023/05/GMA-june.jpg
END:VEVENT
BEGIN:VEVENT
DTSTART;TZID=Europe/Amsterdam:20230603T083000
DTEND;TZID=Europe/Amsterdam:20230605T233000
DTSTAMP:20260421T235422
CREATED:20230530T173802Z
LAST-MODIFIED:20230530T173802Z
UID:1525-1685781000-1686007800@www.svesperia.nl
SUMMARY:Trip to European Parliament in Brussel
DESCRIPTION:Sign-ups are closed! \nFrom the 3rd till the 5th of June the Careercie takes us on a trip to the European Parliament in Brussels.
URL:https://www.svesperia.nl/event/trip-to-european-parliament-in-brussel/
LOCATION:Brussel
ATTACH;FMTTYPE=image/jpeg:https://www.svesperia.nl/wp-content/uploads/2023/05/trip-to-european-parliament.jpg
END:VEVENT
BEGIN:VEVENT
DTSTART;TZID=Europe/Amsterdam:20230601T203000
DTEND;TZID=Europe/Amsterdam:20230601T223000
DTSTAMP:20260421T235422
CREATED:20230530T172738Z
LAST-MODIFIED:20230530T173059Z
UID:1901-1685651400-1685658600@www.svesperia.nl
SUMMARY:ACTcie Play – The Physicists (2nd show date)
DESCRIPTION:❓= Actcie Play\n📌= USVA\n🕐=  1st of June at 20.30 \nDear theatre enthousiasts\, physicists\, King Solomons\, nurses\, children\, missionaries and students\, the times of waiting are finally over! The ACT-Committee is proud to announce that their annual play is going to be Dürrenmatt‘s classic „The Physicists“\, directed by Mai Valk!\nAt the moment\, Mai\, the committee and the actors are eagerly preparing to be able to offer you two unforgettable shows. \nWHEN? May 31st and June 1st at 20:30\nWHERE? at USVA
URL:https://www.svesperia.nl/event/actcie-play-the-physicists-2nd-show-date/
LOCATION:Groningen
ATTACH;FMTTYPE=image/jpeg:https://www.svesperia.nl/wp-content/uploads/2023/05/Actie-eventthumbnail.jpeg
END:VEVENT
BEGIN:VEVENT
DTSTART;TZID=Europe/Amsterdam:20230531T203000
DTEND;TZID=Europe/Amsterdam:20230531T230000
DTSTAMP:20260421T235422
CREATED:20230501T125624Z
LAST-MODIFIED:20230519T052845Z
UID:1272-1685565000-1685574000@www.svesperia.nl
SUMMARY:ACTcie Play - The Physicists
DESCRIPTION:❓= Actcie Play\n📌= USVA\n💸= €9\,- for students\, €12\,- for non-students\n🕐= 31st of May and 1st of June at 20.30 \nDear theatre enthousiasts\, physicists\, King Solomons\, nurses\, children\, missionaries and students\, the times of waiting are finally over! The ACT-Committee is proud to announce that their annual play is going to be Dürrenmatt‘s classic „The Physicists“\, directed by Mai Valk!\nAt the moment\, Mai\, the committee and the actors are eagerly preparing to be able to offer you two unforgettable shows. \nWHEN? May 31st and June 1st at 20:30\nWHERE? at USVA\nTICKETS? for sale via usva.nl\nPRICE? €9\,- for students\, €12\,- for non-students \n‼️Limited tickets available\, so get yours before it‘s too late‼️ \nWe‘re looking forward to see you at the show!\nFor those who cannot stand to wait until the end of May\, we have good news! We will be posting more content about the play\, rehearsals and the committee itself on our Instagram (@arts_cooperation_theatre) over the course of the next few weeks so stay tuned! We hope you‘re as excited as we are!
URL:https://www.svesperia.nl/event/actcie-play-the-physicists/
LOCATION:USVA – Students Culture Centre\, Munnekeholm 10\, Groningen
ATTACH;FMTTYPE=image/jpeg:https://www.svesperia.nl/wp-content/uploads/2023/05/Actie-eventthumbnail.jpeg
END:VEVENT
BEGIN:VEVENT
DTSTART;TZID=Europe/Amsterdam:20230524T210000
DTEND;TZID=Europe/Amsterdam:20230524T235900
DTSTAMP:20260421T235422
CREATED:20230501T125522Z
LAST-MODIFIED:20230519T052427Z
UID:1269-1684962000-1684972740@www.svesperia.nl
SUMMARY:Alphabet Party 2023 - Crazy Circus
DESCRIPTION:❓= Alphabet Party\n📌= Palace Groningen\n💸= Maximum of €10\,- for members\, €11 for non members\, and €12 at the door\n🕐= 24th of May between 21:00 – 03:00 \nDear Esperians\,\nWe are pleased to announce that we are collaborating with a number of study associations to organise the Alphabet Party 2023!😍This year’s theme will be Crazy Circus. As this is a themed party\, you are encouraged to dress up! This year we are celebrating the letter C\, so you can dress as anything that begins with the letter C. You could thus show up in your best cowboy outfit or wear your best clown makeup✨ But you can of course also dress up as something related to the theme of Crazy Circus. \nSign up via this link! \nWe hope to see you there to be able to admire your wonderful costumes!🥰 \nXoxo The Alphabet Party Committee
URL:https://www.svesperia.nl/event/alphabet-party-2023-crazy-circus/
LOCATION:Palace\, Gelkingestraat 1\, Groningen
ATTACH;FMTTYPE=image/jpeg:https://www.svesperia.nl/wp-content/uploads/2023/05/345912380_599785675440113_1263254250171927823_n.jpg
END:VEVENT
BEGIN:VEVENT
DTSTART;TZID=Europe/Amsterdam:20230523T200000
DTEND;TZID=Europe/Amsterdam:20230523T220000
DTSTAMP:20260421T235423
CREATED:20230501T125453Z
LAST-MODIFIED:20230517T103653Z
UID:1267-1684872000-1684879200@www.svesperia.nl
SUMMARY:Charicie presents: Bingo Night
DESCRIPTION:❓= Bingo night\n📌= Feestcafé De Doos\n💸= €0\,-\n🕐= 23rd of May at 20:00 \nDear Esperians\, \nGetting old? Getting tired of all these youngster partying all the time? Come to Charicie’s bingo night at de Doos!👵👴 We’ll have some amazing prices for you to win while you fine tune your bingo skills or take a chance with spin of the wheel of fortune!✨Don’t forget your dentures!🫦 \nWith love\,\nThe Charicie
URL:https://www.svesperia.nl/event/charicie-presents-bingo-night/
LOCATION:Feestcafé De Doos\, Gelkingestraat 11\, Groningen
ATTACH;FMTTYPE=image/jpeg:https://www.svesperia.nl/wp-content/uploads/2023/05/341eb76f-1ec4-42ac-8158-38596642c843.jpeg
END:VEVENT
BEGIN:VEVENT
DTSTART;TZID=Europe/Amsterdam:20230517T173000
DTEND;TZID=Europe/Amsterdam:20230517T193000
DTSTAMP:20260421T235423
CREATED:20230501T125428Z
LAST-MODIFIED:20230515T124447Z
UID:1265-1684344600-1684351800@www.svesperia.nl
SUMMARY:Accie presents: Imposter Game
DESCRIPTION:❓= The imposter game\n📌= Stadspark\n💸= €0\,-\n🕐= 17th of May from 17:30 \nDear Esperians\,\nWe are bringing to you\, in exclusivity\, the first “ Wie is de mol?” game by Esperia. 🔎😋 The contestants have to complete a series of challenges but it is not that easy because every team will have an imposter that will do their best to sabotage their team and win. 😈  If we got your attention and got you interested then don’t hesitate to sign up until the 15th of May to participate 🤗 \nLove\, the Accie
URL:https://www.svesperia.nl/event/accie-presents-imposter-game/
LOCATION:Stadspark\, Concourslaan 7\, Groningen\, Netherlands
ATTACH;FMTTYPE=image/jpeg:https://www.svesperia.nl/wp-content/uploads/2023/05/345892507_626841922681788_4246028237719678431_n.jpg
END:VEVENT
BEGIN:VEVENT
DTSTART;VALUE=DATE:20230512
DTEND;VALUE=DATE:20230515
DTSTAMP:20260421T235423
CREATED:20230501T125355Z
LAST-MODIFIED:20230501T125355Z
UID:1263-1683849600-1684108799@www.svesperia.nl
SUMMARY:Active Members Weekend
DESCRIPTION:
URL:https://www.svesperia.nl/event/active-members-weekend/
LOCATION:Groningen
END:VEVENT
BEGIN:VEVENT
DTSTART;TZID=Europe/Amsterdam:20230510T210000
DTEND;TZID=Europe/Amsterdam:20230510T233000
DTSTAMP:20260421T235423
CREATED:20230501T125321Z
LAST-MODIFIED:20230501T125321Z
UID:1261-1683752400-1683761400@www.svesperia.nl
SUMMARY:Holiday Social & Candidate board announcement
DESCRIPTION:Dear Esperians\,\nEsperia likes to party and what better reason to party than to celebrate all of the holidays into one during our Holiday Social on the 10th of May at 21:00 \, theme picked by the winner of the Lustrum auction\, Annemarie.🐇🎄🎃 As always we have prepared some fun surprises for you during the social\, but what you cannot miss this social is the announcement of the new candidate board of Esperia.💙 So pick your favorite holiday\, dress like it and come meet the next board of Esperia with us during this evening.😉🍻 \nLove\, the Accie
URL:https://www.svesperia.nl/event/holiday-social-candidate-board-announcement/
LOCATION:‘t Gat van Groningen\, Poelestraat 51\, Groningen\, Groningen\, 9711 PK
END:VEVENT
BEGIN:VEVENT
DTSTART;TZID=Europe/Amsterdam:20230508T100000
DTEND;TZID=Europe/Amsterdam:20230508T120000
DTSTAMP:20260421T235423
CREATED:20230501T125211Z
LAST-MODIFIED:20230501T125211Z
UID:1258-1683540000-1683547200@www.svesperia.nl
SUMMARY:Global Textware visit
DESCRIPTION:Dear Esperians\, \nAre you interested in translating and looking for job opportunities?🧐 Then join us for the Global Textware Visit on the 8th of May at 10.00! Global Textware is one of the biggest translator companies in Groningen and will give us a tour of their company📋\nYou can sign up through this link: https://forms.gle/duBhbjzu6EBJuDWG7 \nLove\,\nThe Board💙
URL:https://www.svesperia.nl/event/global-textware-visit/
LOCATION:Global Textware
END:VEVENT
BEGIN:VEVENT
DTSTART;TZID=Europe/Amsterdam:20230502T170000
DTEND;TZID=Europe/Amsterdam:20230502T190000
DTSTAMP:20260421T235423
CREATED:20230501T125106Z
LAST-MODIFIED:20230501T125106Z
UID:1255-1683046800-1683054000@www.svesperia.nl
SUMMARY:Sant Jordi
DESCRIPTION:edar Esperians\, \nWhile February 14th has long gone\, we want to celebrate love once again! On Sant Jordi\, Catalans celebrate love by exchanging books and roses. Instead of books\, which we poor students can’t afford\, we will exchange poems during this activity. Furthermore\, we learn more about this Catalan tradition. Make sure to bring a poem (or more!) which reminds you of a certain (special) someone. Join us on the 2nd of May! You sign can up through this link: https://forms.gle/fvGW2jU6XmpxU1JdA \n 
URL:https://www.svesperia.nl/event/sant-jordi/
LOCATION:Graanrepubliek
END:VEVENT
BEGIN:VEVENT
DTSTART;TZID=Europe/Amsterdam:20230501T200000
DTEND;TZID=Europe/Amsterdam:20230501T220000
DTSTAMP:20260421T235423
CREATED:20230501T124931Z
LAST-MODIFIED:20230501T124931Z
UID:1252-1682971200-1682978400@www.svesperia.nl
SUMMARY:Language cafe
DESCRIPTION:Dear Esperians\, \nJoin us at the last language café of this academic year to prepare for your summer travels! ☀ Planning a beach vacation in Mallorca\, a hike in Sweden or do you just want to practice your language skills for any future endeavors? We got you covered! 😎 \nGet a drink with us to share your travel stories in French\, Spanish\, English\, Swedish\, German\, Dutch\, Italian\, Russian\, or Frisian! 🌍 \nYou can join us on the 1st of May at De Drie Gezusters from 20:00 until 22:00. \nWe’re excited to see you there!🤩 \n 
URL:https://www.svesperia.nl/event/language-cafe/
LOCATION:De Drie Gezusters
END:VEVENT
BEGIN:VEVENT
DTSTART;TZID=Europe/Amsterdam:20230425T193000
DTEND;TZID=Europe/Amsterdam:20230425T230000
DTSTAMP:20260421T235423
CREATED:20230418T071506Z
LAST-MODIFIED:20230418T071506Z
UID:1183-1682451000-1682463600@www.svesperia.nl
SUMMARY:Charicie: Auction for UAID
DESCRIPTION:On the 25th of April the Charicie organises an Auction for UAID. Join us in cafe De Toeter starting at 19:30 to bid on the best auction items you have ever seen! \nNaturally\, all funds collected during the auction will go to this year’s selected charity: UAID Stichting\, a non-profit organisation started by Ukrainian students living in Amsterdam that supports Ukrainian towns stricken by war🇺🇦❤.
URL:https://www.svesperia.nl/event/charicie-auction-for-uaid/
LOCATION:Cafe De Toeter\, Turfsingel 6\, Groningen\, Groningen\, 9712KP\, Netherlands
ORGANIZER;CN="Charicie":MAILTO:charicie@svesperia.nl
END:VEVENT
BEGIN:VEVENT
DTSTART;TZID=Europe/Amsterdam:20230420T200000
DTEND;TZID=Europe/Amsterdam:20230420T233000
DTSTAMP:20260421T235423
CREATED:20230322T150212Z
LAST-MODIFIED:20230418T070811Z
UID:917-1682020800-1682033400@www.svesperia.nl
SUMMARY:Travelcie: Post-trip Social
DESCRIPTION:It is already over a month ago when we went on our amazing lustrumtrip to Athens but that does not mean we will forget it. Celebrate our trip at the post-trip social!
URL:https://www.svesperia.nl/event/travelcie-post-trip-social/
LOCATION:Humanistisch Verbond\, W.A. Scholtenstraat 2\, Groningen\, Groningen\, 9712KW
END:VEVENT
BEGIN:VEVENT
DTSTART;TZID=Europe/Amsterdam:20230418T220000
DTEND;TZID=Europe/Amsterdam:20230418T233000
DTSTAMP:20260421T235423
CREATED:20230322T145828Z
LAST-MODIFIED:20230329T142824Z
UID:915-1681855200-1681860600@www.svesperia.nl
SUMMARY:Lustrumweek: Oscars gala
DESCRIPTION:Dearest Esperians\, \nSince the whole Lustrum is a celebration of our association\, of course we have to party! 🥳 And as you all know\, “a little party never killed nobody”. On the last evening of the Lustrum\, the 18th of April from 22:00-2:00\, we will be hosting an amazing gala at News Cafe. We also like to present the theme to you: the Oscars!! You will have the opportunity to have your awardwinning picture taken until 23:15. The ticket to this fancy event costs €26\,95 for members\, and €29\,95 for non-members. ‼ As with all activities\, passe partout holders still have to sign up through the Google Form ‼ You can sign up via the Google Form until April 16 23:59! We even have gotten a great deal for you all: with your ticket you can get 10% discount at Kostuumverhuur Groningen and 20% at Catwalk!\nHere is the link to the form: https://forms.gle/j8jY42J62DBsUvqz5 \nX Lustrumcie 🦈
URL:https://www.svesperia.nl/event/lustrumweek-oscars-gala/
LOCATION:Groningen
ORGANIZER;CN="Lustrumcie":MAILTO:lustrumcie@svesperia.nl
END:VEVENT
BEGIN:VEVENT
DTSTART;TZID=Europe/Amsterdam:20230417T200000
DTEND;TZID=Europe/Amsterdam:20230417T220000
DTSTAMP:20260421T235423
CREATED:20230322T145743Z
LAST-MODIFIED:20230329T142647Z
UID:913-1681761600-1681768800@www.svesperia.nl
SUMMARY:Lustrumweek: Bowling
DESCRIPTION:Dearest Esperians\, \nDuring the Lustrum you might not have much spare time\, so we figured we made sure you at least got some sort of movement during the week. We’ll thought of a sport that is right up your alley. Okay\, we will stop with the pins\, sorry… puns now. As you might have realised already\, we’re going bowling! 🎳 On April the 17th from 20:00 to 22:00\, we’ll go to Kardinge to challenge each other in this exciting game in maffia theme. Sounds fun? Please sign up via this link before 23:59 the 7th of April:\nhttps://forms.gle/aCynkMRSynGUWAWi9 \n‼ As with all activities\, passe partout holders still have to sign up through the Google Form ‼ \n  \nX Lustrumcie  🦈
URL:https://www.svesperia.nl/event/lustrumweek-bowling/
LOCATION:Groningen
ORGANIZER;CN="Lustrumcie":MAILTO:lustrumcie@svesperia.nl
END:VEVENT
BEGIN:VEVENT
DTSTART;TZID=Europe/Amsterdam:20230417T140000
DTEND;TZID=Europe/Amsterdam:20230417T160000
DTSTAMP:20260421T235423
CREATED:20230322T145703Z
LAST-MODIFIED:20230329T103229Z
UID:911-1681740000-1681747200@www.svesperia.nl
SUMMARY:Lustrumweek: Boat tour
DESCRIPTION:On the 17th of April we go on a boattour and discover Groningen from a water perspective.
URL:https://www.svesperia.nl/event/lustrumweek-boat-tour/
LOCATION:Groningen
ORGANIZER;CN="Lustrumcie":MAILTO:lustrumcie@svesperia.nl
END:VEVENT
BEGIN:VEVENT
DTSTART;TZID=Europe/Amsterdam:20230416T130000
DTEND;TZID=Europe/Amsterdam:20230416T180000
DTSTAMP:20260421T235423
CREATED:20230322T145608Z
LAST-MODIFIED:20230329T142536Z
UID:909-1681650000-1681668000@www.svesperia.nl
SUMMARY:Lustrumweek: Family day
DESCRIPTION:Dearest Esperians\, \nWe understand that every location can become the happiest place on earth when your family and friends are there. ✨ That’s why we would like to invite you to the Family & Friends Day on Sunday the 16th of April from 13:00-17:30 at Hoornseplas (parking spaces available). You can bring up to 5 people with you\, whether they’re family\, roommates or someone else you’re close to. This day will consist of some fun games and lunch\, in a Disney theme! During this event\, the Charicie will also be present\, so there’s an opportunity to donate to UAID Stichting 🇺🇦. You can sign up via this Google Form until 23:59 on the 13th of April: https://forms.gle/fDj8PvmF2nueGLQB9 \n‼ As with all activities\, passe partout holders still have to sign up through the Google Form ‼ \nX Lustrumcie  🦈
URL:https://www.svesperia.nl/event/lustrumweek-family-day/
LOCATION:Groningen
ORGANIZER;CN="Lustrumcie":MAILTO:lustrumcie@svesperia.nl
END:VEVENT
BEGIN:VEVENT
DTSTART;TZID=Europe/Amsterdam:20230415T130000
DTEND;TZID=Europe/Amsterdam:20230415T170000
DTSTAMP:20260421T235423
CREATED:20230322T145424Z
LAST-MODIFIED:20230329T142059Z
UID:907-1681563600-1681578000@www.svesperia.nl
SUMMARY:Lustrumweek: Hangover brunch
DESCRIPTION:After having a cantus the night before the Lustrumcie provides us with a well deserved hangover brunch.
URL:https://www.svesperia.nl/event/lustrumweek-hangover-brunch/
LOCATION:Groningen
ORGANIZER;CN="Lustrumcie":MAILTO:lustrumcie@svesperia.nl
END:VEVENT
BEGIN:VEVENT
DTSTART;TZID=Europe/Amsterdam:20230414T200000
DTEND;TZID=Europe/Amsterdam:20230414T233000
DTSTAMP:20260421T235423
CREATED:20230322T145311Z
LAST-MODIFIED:20230329T142129Z
UID:904-1681502400-1681515000@www.svesperia.nl
SUMMARY:Lustrumweek: Cantus
DESCRIPTION:After the movie afternoon we will have a traditional cantus!
URL:https://www.svesperia.nl/event/lustrumweek-cantus/
LOCATION:A.S.V. Dizkartes\, Peperstraat 21\, Groningen\, Groningen\, 9711 PC
ORGANIZER;CN="Lustrumcie":MAILTO:lustrumcie@svesperia.nl
END:VEVENT
BEGIN:VEVENT
DTSTART;TZID=Europe/Amsterdam:20230414T130000
DTEND;TZID=Europe/Amsterdam:20230414T160000
DTSTAMP:20260421T235423
CREATED:20230322T145133Z
LAST-MODIFIED:20230329T142422Z
UID:902-1681477200-1681488000@www.svesperia.nl
SUMMARY:Lustrumweek: Movie Time
DESCRIPTION:The theme of our second lustrum is “Going to the movies” and therefore the Lustrumcie takes us to the movies!
URL:https://www.svesperia.nl/event/lustrumweek-movie-time/
LOCATION:Groningen
ORGANIZER;CN="Lustrumcie":MAILTO:lustrumcie@svesperia.nl
END:VEVENT
BEGIN:VEVENT
DTSTART;TZID=Europe/Amsterdam:20230413T094500
DTEND;TZID=Europe/Amsterdam:20230413T220000
DTSTAMP:20260421T235423
CREATED:20230322T145001Z
LAST-MODIFIED:20230329T142322Z
UID:899-1681379100-1681423200@www.svesperia.nl
SUMMARY:Lustrumweek: Trip to Amberscript
DESCRIPTION:Dearest Esperians\, \nAs a young Ellie once said in Up\, “adventure is out there!”\, and going with us to Amberscript will certainly be an adventure. Amberscript is an Amsterdam-based audio and video subtitling and transcription company\, which has worked with big businesses like Disney\, Talpa and Givenchy. They will first give us some general information about themselves\, as well as an interesting workshop. Apart from the visit\, there will be free time to spend in Amsterdam. So\, this trip will be the perfect combination of career and fun. On the 13th of April we will leave from Groningen around 10:00. There’s place for 36 participants\, so sign up quickly via the link! You can do so until the 7th of April 23:59. \nhttps://forms.gle/3DhJ2Fu9MLnGYkoH9 \n‼ Some important information about the sign-ups: ‼ \nPasse partout holders still have to sign up through the Google Form\, even though they already bought the passe partout. \nThe price of this activity will vary depending on your OV-subscription. If you do not have a passe partout\, you will need to pay €10 for the activity\, and if you do not have free OV (week OV)\, you will need to pay an extra €7\,15 for the transportation costs. \nX Lustrumcie   🦈
URL:https://www.svesperia.nl/event/lustrumweek-trip-to-amberscript/
LOCATION:Amberscript
ORGANIZER;CN="Lustrumcie":MAILTO:lustrumcie@svesperia.nl
END:VEVENT
BEGIN:VEVENT
DTSTART;TZID=Europe/Amsterdam:20230412T210000
DTEND;TZID=Europe/Amsterdam:20230412T233000
DTSTAMP:20260421T235423
CREATED:20230322T144849Z
LAST-MODIFIED:20230329T141929Z
UID:897-1681333200-1681342200@www.svesperia.nl
SUMMARY:Lustrumweek: Dies social
DESCRIPTION:Dearest Esperians\, \nIf we go back to the reason we are organising this Lustrum in the first place\, that is of course Esperia’s 10th birthday! 🎂 To start off this Lustrum\, we will celebrate our association with the dies social on the 12th of April\, 21:00 at ‘t Gat van Groningen. Inspired by Esperia as the main character of this week\, the theme will be ✨ I am the main character ✨. During this evening we will have 2 kegs of free beer\, so don’t be too late. See you there! \nX Lustrumcie   🦈
URL:https://www.svesperia.nl/event/lustrumweek-dies-social/
LOCATION:‘t Gat van Groningen\, Poelestraat 51\, Groningen\, Groningen\, 9711 PK
ORGANIZER;CN="Lustrumcie":MAILTO:lustrumcie@svesperia.nl
END:VEVENT
BEGIN:VEVENT
DTSTART;VALUE=DATE:20230412
DTEND;VALUE=DATE:20230419
DTSTAMP:20260421T235423
CREATED:20230322T144514Z
LAST-MODIFIED:20230322T144514Z
UID:893-1681257600-1681862399@www.svesperia.nl
SUMMARY:Lustrumweek
DESCRIPTION:Dear Esperians\, \nFrom the 12th till the 18th of April it is time to celebrate Esperia’s second lustrum. This lustrumweek is filled with amazing activities so keep an eye out on our socials. \nThere are still some passe partouts available. So be sure to order one! Keep in mind that with a passe partout you are assured of a spot at every activity. The passe partout are priced at €62\,50 \nhttps://forms.gle/KLNy6TNiXNaGtasn8
URL:https://www.svesperia.nl/event/lustrumweek/
LOCATION:Groningen
ATTACH;FMTTYPE=image/jpeg:https://www.svesperia.nl/wp-content/uploads/2023/03/prices-lustrum.jpg
ORGANIZER;CN="Lustrumcie":MAILTO:lustrumcie@svesperia.nl
END:VEVENT
END:VCALENDAR