BEGIN:VCALENDAR
VERSION:2.0
PRODID:-//S. A. Esperia - ECPv6.15.20//NONSGML v1.0//EN
CALSCALE:GREGORIAN
METHOD:PUBLISH
X-ORIGINAL-URL:https://www.svesperia.nl
X-WR-CALDESC:Events for S. A. Esperia
REFRESH-INTERVAL;VALUE=DURATION:PT1H
X-Robots-Tag:noindex
X-PUBLISHED-TTL:PT1H
BEGIN:VTIMEZONE
TZID:Europe/Amsterdam
BEGIN:DAYLIGHT
TZOFFSETFROM:+0100
TZOFFSETTO:+0200
TZNAME:CEST
DTSTART:20230326T010000
END:DAYLIGHT
BEGIN:STANDARD
TZOFFSETFROM:+0200
TZOFFSETTO:+0100
TZNAME:CET
DTSTART:20231029T010000
END:STANDARD
BEGIN:DAYLIGHT
TZOFFSETFROM:+0100
TZOFFSETTO:+0200
TZNAME:CEST
DTSTART:20240331T010000
END:DAYLIGHT
BEGIN:STANDARD
TZOFFSETFROM:+0200
TZOFFSETTO:+0100
TZNAME:CET
DTSTART:20241027T010000
END:STANDARD
BEGIN:DAYLIGHT
TZOFFSETFROM:+0100
TZOFFSETTO:+0200
TZNAME:CEST
DTSTART:20250330T010000
END:DAYLIGHT
BEGIN:STANDARD
TZOFFSETFROM:+0200
TZOFFSETTO:+0100
TZNAME:CET
DTSTART:20251026T010000
END:STANDARD
BEGIN:DAYLIGHT
TZOFFSETFROM:+0100
TZOFFSETTO:+0200
TZNAME:CEST
DTSTART:20260329T010000
END:DAYLIGHT
BEGIN:STANDARD
TZOFFSETFROM:+0200
TZOFFSETTO:+0100
TZNAME:CET
DTSTART:20261025T010000
END:STANDARD
END:VTIMEZONE
BEGIN:VTIMEZONE
TZID:Europe/Helsinki
BEGIN:DAYLIGHT
TZOFFSETFROM:+0200
TZOFFSETTO:+0300
TZNAME:EEST
DTSTART:20230326T010000
END:DAYLIGHT
BEGIN:STANDARD
TZOFFSETFROM:+0300
TZOFFSETTO:+0200
TZNAME:EET
DTSTART:20231029T010000
END:STANDARD
BEGIN:DAYLIGHT
TZOFFSETFROM:+0200
TZOFFSETTO:+0300
TZNAME:EEST
DTSTART:20240331T010000
END:DAYLIGHT
BEGIN:STANDARD
TZOFFSETFROM:+0300
TZOFFSETTO:+0200
TZNAME:EET
DTSTART:20241027T010000
END:STANDARD
BEGIN:DAYLIGHT
TZOFFSETFROM:+0200
TZOFFSETTO:+0300
TZNAME:EEST
DTSTART:20250330T010000
END:DAYLIGHT
BEGIN:STANDARD
TZOFFSETFROM:+0300
TZOFFSETTO:+0200
TZNAME:EET
DTSTART:20251026T010000
END:STANDARD
END:VTIMEZONE
BEGIN:VEVENT
DTSTART;TZID=Europe/Amsterdam:20250219T183000
DTEND;TZID=Europe/Amsterdam:20250219T213000
DTSTAMP:20260421T150001
CREATED:20250123T141254Z
LAST-MODIFIED:20250123T141254Z
UID:4468-1739989800-1740000600@www.svesperia.nl
SUMMARY:Fitcie Activity
DESCRIPTION:SAVE THE DATE: The Fitcie has something nice planned for us on the 19th of February. More info soon to be found on our socials!
URL:https://www.svesperia.nl/event/fitcie-activity-2/
END:VEVENT
BEGIN:VEVENT
DTSTART;TZID=Europe/Amsterdam:20250217T190000
DTEND;TZID=Europe/Amsterdam:20250217T220000
DTSTAMP:20260421T150001
CREATED:20250123T141145Z
LAST-MODIFIED:20250123T141145Z
UID:4466-1739818800-1739829600@www.svesperia.nl
SUMMARY:Language Café
DESCRIPTION:Save the date: on the 17th of February\, the third language café of the year will take place. Come to practice your languages!
URL:https://www.svesperia.nl/event/language-cafe-5/
ORGANIZER;CN="Languagecie":MAILTO:languagecie@svesperia.nl
END:VEVENT
BEGIN:VEVENT
DTSTART;TZID=Europe/Amsterdam:20250212T210000
DTEND;TZID=Europe/Amsterdam:20250212T233000
DTSTAMP:20260421T150001
CREATED:20250123T141021Z
LAST-MODIFIED:20250123T141021Z
UID:4464-1739394000-1739403000@www.svesperia.nl
SUMMARY:Almanaccie Reveal Social
DESCRIPTION:Save the date: on the 12th of February\, the Almanaccie will reveal the theme for this years Almanac during the monthly social. Stay Tuned!!!!
URL:https://www.svesperia.nl/event/almanaccie-reveal-social/
LOCATION:‘t Gat van Groningen\, Poelestraat 51\, Groningen\, Groningen\, 9711 PK
END:VEVENT
BEGIN:VEVENT
DTSTART;TZID=Europe/Amsterdam:20250205T193000
DTEND;TZID=Europe/Amsterdam:20250205T230000
DTSTAMP:20260421T150001
CREATED:20250123T140804Z
LAST-MODIFIED:20250123T140804Z
UID:4461-1738783800-1738796400@www.svesperia.nl
SUMMARY:Languagecie Murder Mystery
DESCRIPTION:❓: The Polyglot’s poison\n📌: To be announced\n💸: Free\n🕑: 5th of February\, 19.30 \nDear Esperians\,\nNow that exams are over and the second semester starts\, the Languagecie is excited to invite you on a little gloomy adventure.\nImagine yourself travelling around Europe aboard the interrail train but it turns out you are in the middle of an Agatha Christie novel and someone died… 🚂\nWho died? Why ? How? Who are the suspects? Do they have alibis ? Are you also in danger ?👀🔪\nJoin us to wake up the detectives and Hercule Poirot inside you to solve a fascinating murder case !\nThe murder was committed at a location that’s still a secret🤫 \, but you’ll meet us there at 19.30 on the 5th of February\, before the murderer can escape🏃‍♂️💨 \nLove\,\nThe Languagecie 💜
URL:https://www.svesperia.nl/event/languagecie-murder-mystery/
ORGANIZER;CN="Languagecie":MAILTO:languagecie@svesperia.nl
END:VEVENT
BEGIN:VEVENT
DTSTART;TZID=Europe/Amsterdam:20250131T160000
DTEND;TZID=Europe/Amsterdam:20250131T193000
DTSTAMP:20260421T150001
CREATED:20241229T141743Z
LAST-MODIFIED:20250123T140837Z
UID:4447-1738339200-1738351800@www.svesperia.nl
SUMMARY:Careercie Activity
DESCRIPTION:Save the date: the 30th of January will be a day for the future. We will go on a career related trip with the Careercie. \nMore info about the trip is soon to be found on our socials!
URL:https://www.svesperia.nl/event/careercie-activity/
END:VEVENT
BEGIN:VEVENT
DTSTART;TZID=Europe/Amsterdam:20250124T200000
DTEND;TZID=Europe/Amsterdam:20250124T200000
DTSTAMP:20260421T150001
CREATED:20241229T141122Z
LAST-MODIFIED:20250108T090029Z
UID:4445-1737748800-1737748800@www.svesperia.nl
SUMMARY:Ice Skating with the Fitcie
DESCRIPTION:On the 24th of January we will go to Kardinge to go ice skating together. So\, grab your ice skates (or rent a pair there)\, put on some gloves and a hat and be ready for a sporty activity with our own Fitcie. \nMore details are soon to be found on Instagram/FaceBook or on WhatsApp.
URL:https://www.svesperia.nl/event/ice-skating-with-the-fitcie/
LOCATION:Kardinge\, Kardingerplein 1\, Groningen\, 9735AA\, Netherlands
END:VEVENT
BEGIN:VEVENT
DTSTART;TZID=Europe/Amsterdam:20250118T163000
DTEND;TZID=Europe/Amsterdam:20250118T200000
DTSTAMP:20260421T150001
CREATED:20241229T140851Z
LAST-MODIFIED:20241229T140851Z
UID:4443-1737217800-1737230400@www.svesperia.nl
SUMMARY:Alumni Activity
DESCRIPTION:Save the date: On saturday the 18th of January we will organise an activity for our beloved alumni members. But don’t be sad\, regular members are also welcome (keep in mind that we have limited spots and that alumni members have priority to this activity). Check our Instagram or Whatsapp to discover what we’re going to do and how to sign up!
URL:https://www.svesperia.nl/event/alumni-activity-3/
ORGANIZER;CN="Board":MAILTO:bestuur@svesperia.nl
END:VEVENT
BEGIN:VEVENT
DTSTART;TZID=Europe/Amsterdam:20250115T170000
DTEND;TZID=Europe/Amsterdam:20250115T220000
DTSTAMP:20260421T150001
CREATED:20241229T140557Z
LAST-MODIFIED:20250108T085958Z
UID:4441-1736960400-1736978400@www.svesperia.nl
SUMMARY:Book Swap
DESCRIPTION:Save the date (and your books): the 15th of January will be an amazing opportunity to get rid of old books or to buy some new ones. The room for the bookswap will be announced later! See you there :))
URL:https://www.svesperia.nl/event/book-swap/
LOCATION:Harmony Building\, Oude Kijk in het Jat Straat 26\, Groningen\, 9712 EK\, Netherlands
ORGANIZER;CN="Board":MAILTO:bestuur@svesperia.nl
END:VEVENT
BEGIN:VEVENT
DTSTART;TZID=Europe/Amsterdam:20250108T210000
DTEND;TZID=Europe/Amsterdam:20250108T233000
DTSTAMP:20260421T150001
CREATED:20241229T140339Z
LAST-MODIFIED:20241229T140339Z
UID:4439-1736370000-1736379000@www.svesperia.nl
SUMMARY:Travelcie Reveal Social
DESCRIPTION:❓ = January social + trip reveal\n📌 = ‘t Gat van Groningen\n💸 = €0\,-\n🕘 = 8th of January at 21:00 \nDear Esperians\, \nWe hope you’re all enjoying a peaceful Christmas break full of fun times🎄! On the other hand\, we are all excited to see you all again in January\, and what better opportunity to do so than at the January social🥳!\nAt this social\, you will finally find out the destination of the upcoming Esperia trip 2025🌍so make sure to be there at 22:00 for the reveal video🍾!! We hope you are following our clues and\, if you already have any theories\, this is your time to shine✨! The theme of this social will beeee…🥁DRESS AS YOUR GUESS🔎!!! So get creative and see you all there💃🕺! \nLove\,\nThe Travelcie💙🩷
URL:https://www.svesperia.nl/event/travelcie-reveal-social/
LOCATION:‘t Gat van Groningen\, Poelestraat 51\, Groningen\, Groningen\, 9711 PK
END:VEVENT
BEGIN:VEVENT
DTSTART;TZID=Europe/Amsterdam:20241216T190000
DTEND;TZID=Europe/Amsterdam:20241216T220000
DTSTAMP:20260421T150001
CREATED:20241127T134608Z
LAST-MODIFIED:20241127T134608Z
UID:4311-1734375600-1734386400@www.svesperia.nl
SUMMARY:GMA - General Members Assembly
DESCRIPTION:It is already time for the 2nd GMA this academic year. \nSave the date! On the 16th of December\, you will see all newly formed committees get installed\, an update on the Battle of Esperia\, and you will of course have the chance to discuss imortant matters with the Board. \nWe will see you there!
URL:https://www.svesperia.nl/event/gma-general-members-assembly/
LOCATION:kroeg van Klaas\, Oosterweg 26\, Groningen\, Groningen\, 9724 CJ
ORGANIZER;CN="Board":MAILTO:bestuur@svesperia.nl
END:VEVENT
BEGIN:VEVENT
DTSTART;TZID=Europe/Amsterdam:20241211T210000
DTEND;TZID=Europe/Amsterdam:20241211T233000
DTSTAMP:20260421T150001
CREATED:20241127T134310Z
LAST-MODIFIED:20241127T134310Z
UID:4309-1733950800-1733959800@www.svesperia.nl
SUMMARY:ETCetera Social
DESCRIPTION:❓= ETCetera Release Social\n📌 = T’Gat van Groningen\n💸 = 0 €\n🕗 = Wednesday\, December 11th 21:00 \nJoin us for the ETCetera Release Social at T’Gat van Groningen on Wednesday\, December 11th\, at 21:00! We’re celebrating the release of our latest ETCetera magazine\,🗞 and we would love to have you there. This is your chance to pick up your next read\, and celebrate with your fellow Esperians—all while rocking the ugliest Christmas sweater you can find\, because the theme is ✨foute kerst ✨! The tackier the fit\, the better!🤶🏼\nIn the spirit of sustainability\, if you want a copy\, we ask you to sign up for an ETCetera. The best part? It’s still free! So fill in the link below\, wear your best (or worst) festive fashion and we hope to see you then! The ETCetera release will kick off at 10 PM\, so make sure you’re there to catch it! 🎄\nhttps://forms.gle/GciauimmioHEHMyH9 \nWe hope you’ll like it\nLove\, The EditorCie 💖
URL:https://www.svesperia.nl/event/etcetera-social/
LOCATION:‘t Gat van Groningen\, Poelestraat 51\, Groningen\, Groningen\, 9711 PK
END:VEVENT
BEGIN:VEVENT
DTSTART;TZID=Europe/Amsterdam:20241210T180000
DTEND;TZID=Europe/Amsterdam:20241210T200000
DTSTAMP:20260421T150001
CREATED:20241202T135508Z
LAST-MODIFIED:20241202T135508Z
UID:4313-1733853600-1733860800@www.svesperia.nl
SUMMARY:Theatre Workshop
DESCRIPTION:The ACT committee is back for another year of fun theatre !!! 🎉\nTo celebrate our return\, we invite you to our theatre workshop and everyone is welcome. 🎭 \nIf acting is something you’ve always loved\, if acting is something you’ve always wanted to try but were too shy to try\, if you were a theatre kid at school and miss theatre or if you just wanna have some fun\, then our workshop is the perfect opportunity for you !\nAnd don’t panic if you’ve never tried acting\, no experience is needed. \nLet’s meet on the 10th of December at 18:00 in the Exposition Room in Harmonie.\nIt’s a free workshop and we’ll even provide some drinks and snacks. \nSign up via This link\nWith love\,\nThe ACTcie 🤍\nFrom the study associations IK\, Ubbo\, Commotie and Esperia.
URL:https://www.svesperia.nl/event/theatre-workshop/
LOCATION:Harmony Building\, Oude Kijk in het Jat Straat 26\, Groningen\, 9712 EK\, Netherlands
END:VEVENT
BEGIN:VEVENT
DTSTART;TZID=Europe/Amsterdam:20241209T200000
DTEND;TZID=Europe/Amsterdam:20241209T220000
DTSTAMP:20260421T150001
CREATED:20241127T134211Z
LAST-MODIFIED:20241127T134211Z
UID:4307-1733774400-1733781600@www.svesperia.nl
SUMMARY:Language Café
DESCRIPTION:❓= Language café\n📌 = De Drie Gezusters\n💸 = €0\,-\n🕗 = 9th of December from 20:00 to 22:00 \nDear Esperians\, \nAs the winter winds begin to weave their magic and the days are getting colder\, it’s almost time for the second language café of the year\, with the theme Winter Conversations. Join us for a cozy chat about your favourite winter activities ⛷️ and festivities 🎅🏼 accompanied by a warm drink. ❄️☕ \nThe languages we offer this time include French\, Spanish\, Swedish\, German\, Dutch\, Italian\, Frisian and Russian. \nYou can join us on the 9th of December at the Drie Gezusters from 20:00 till 22:00. You can sign-up by filling out the following form: https://forms.gle/rxLhFqakDpDfD2XN8 \nWe can’t wait to see you there and hear all your winter tales in your language of choice! 💙✨ \nLove\,\nthe Languagecie 💜
URL:https://www.svesperia.nl/event/language-cafe-4/
LOCATION:De Drie Gezusters
ORGANIZER;CN="Languagecie":MAILTO:languagecie@svesperia.nl
END:VEVENT
BEGIN:VEVENT
DTSTART;VALUE=DATE:20241207
DTEND;VALUE=DATE:20241208
DTSTAMP:20260421T150001
CREATED:20241127T134047Z
LAST-MODIFIED:20241127T134047Z
UID:4305-1733529600-1733615999@www.svesperia.nl
SUMMARY:Christmas Market
DESCRIPTION:On the 7th of December\, the Languagecie will organise a trip to a christmas market! \nSave the date and we will see you then! \n 
URL:https://www.svesperia.nl/event/christmas-market/
ORGANIZER;CN="Languagecie":MAILTO:languagecie@svesperia.nl
END:VEVENT
BEGIN:VEVENT
DTSTART;TZID=Europe/Amsterdam:20241204T210000
DTEND;TZID=Europe/Amsterdam:20241204T235900
DTSTAMP:20260421T150001
CREATED:20241127T133918Z
LAST-MODIFIED:20241127T133918Z
UID:4302-1733346000-1733356740@www.svesperia.nl
SUMMARY:Winter Gala
DESCRIPTION:❓= Winter Gala\n📌 = News Café\n💸 = max. €10\,25\n🕗 = 4th of December from 21:00 to 01:00 (open doors until 22:00) \nDear Esperians\, \nAs winter and the holiday season are approaching\, we all know that this only means one thing: it’s that time of the year to dust off your best dresses\, bowties\, heels and tuxedos for a very special evening… 👔🌌\nWe are pleased to announce this year’s Winter Gala!❄️\nIf you want to bring your partner\, family member\, friend or situationship to elevate the evening (or stir up some drama🫢)\, you have the possibility to have a plus one👯‍♂️. You can sign up through this form https://forms.gle/hKrdpG93V4TVxrXe9 \, but be quick!💨 Spots fill up quickly\, you wouldn’t want to miss this evening.🩵\nYou thought that was all?🙄 We do think of all of you\, and this is why\, thanks to our sponsor Catwalk\, the people who join the gala get a 20% discount on their purchase\, and one every 20 dresses is free!🏷️\nWe all hope to see you there! \nLove\,\nthe Board💙
URL:https://www.svesperia.nl/event/winter-gala/
LOCATION:News Cafe\, Waagplein 5\, Groningen\, Groningen\, 9712JZ\, Netherlands
ORGANIZER;CN="Board":MAILTO:bestuur@svesperia.nl
END:VEVENT
BEGIN:VEVENT
DTSTART;TZID=Europe/Amsterdam:20241125T193000
DTEND;TZID=Europe/Amsterdam:20241125T220000
DTSTAMP:20260421T150001
CREATED:20241028T213154Z
LAST-MODIFIED:20241030T132314Z
UID:4208-1732563000-1732572000@www.svesperia.nl
SUMMARY:Auction
DESCRIPTION:On the 25th of November we will have another one of our special Esperia Auctions. The Acquicie will organise an auction where they will raise money for the association and for charity! More info on this later :))
URL:https://www.svesperia.nl/event/auction/
END:VEVENT
BEGIN:VEVENT
DTSTART;TZID=Europe/Amsterdam:20241118T190000
DTEND;TZID=Europe/Amsterdam:20241118T220000
DTSTAMP:20260421T150001
CREATED:20241028T210524Z
LAST-MODIFIED:20241030T132335Z
UID:4204-1731956400-1731967200@www.svesperia.nl
SUMMARY:Languagecie Activity
DESCRIPTION:Prepare yourself for the first activity organised by the Languagecie!! The 18th of November the Languagecie will organise a very fun activity. Save the date and make sure to check our socials for more information!
URL:https://www.svesperia.nl/event/languagecie-activity/
ORGANIZER;CN="Languagecie":MAILTO:languagecie@svesperia.nl
END:VEVENT
BEGIN:VEVENT
DTSTART;TZID=Europe/Amsterdam:20241113T210000
DTEND;TZID=Europe/Amsterdam:20241113T233000
DTSTAMP:20260421T150001
CREATED:20241028T195005Z
LAST-MODIFIED:20241028T195005Z
UID:4202-1731531600-1731540600@www.svesperia.nl
SUMMARY:Social
DESCRIPTION:The November social is happening on the 13th of November. Vote for your preferred theme in the WhatsApp poll! We see you at ‘T Gat and remember\, the happy hour starts at 21:00 😉
URL:https://www.svesperia.nl/event/social-2/
LOCATION:‘t Gat van Groningen\, Poelestraat 51\, Groningen\, Groningen\, 9711 PK
ORGANIZER;CN="Board":MAILTO:bestuur@svesperia.nl
END:VEVENT
BEGIN:VEVENT
DTSTART;TZID=Europe/Amsterdam:20241111T172000
DTEND;TZID=Europe/Amsterdam:20241111T213000
DTSTAMP:20260421T150001
CREATED:20241028T192604Z
LAST-MODIFIED:20241104T183838Z
UID:4200-1731345600-1731360600@www.svesperia.nl
SUMMARY:Fitcie Activity
DESCRIPTION:❓= Swimming in Veendam\n📌 = Central station Groningen\n💸 = max. €5 for members and max. €6\,50 for non-members\n🕗 = 11th of November at 17:20 \nDear Esperians\, \nIt’s finally time for the first event from our Fitcie🎉🎉🎉\nAfter a long\, exhausting exam period\, we plan to go swimming all together.\nDoesn’t matter if you come along to drown your exam trauma\, to relax a bit in the wild-water pool of Veendam or for the fries after\, we are looking forward to see ALL of you and reward the winning team of one small game with a delicious price😉 \nYou can sign up through the following link: https://forms.gle/KGbR9qxiCSHxsb1K6 \n🗒️: We plan to travel all together to the swimming pool of Veendam\, so please be on time to catch the train with us. \n🗒️:Everyone has to come up for their own traveling costs\, for people without a free OV\, we are going to arrange group-tickets. \nSee you on Monday!\nYour Fitcie💪
URL:https://www.svesperia.nl/event/fitcie-activity/
END:VEVENT
BEGIN:VEVENT
DTSTART;TZID=Europe/Amsterdam:20241108T174500
DTEND;TZID=Europe/Amsterdam:20241108T223000
DTSTAMP:20260421T150001
CREATED:20241028T191205Z
LAST-MODIFIED:20241028T191205Z
UID:4198-1731087900-1731105000@www.svesperia.nl
SUMMARY:Running Dinner
DESCRIPTION:❓= Running dinner\n📌 = all over the city\n💸 = €5\,- for members\n🕗 = 8th of November from 17:45 \nDear Esperians\, \nGet ready for an evening of tasty dishes and good conversations. Because on Friday\, the 8th of November at 17:45\, the running dinner returns! 🏃🏼‍♀️🍽️ During a running dinner you will visit a few locations together with a group (made by us)\, where you will be served a dish made by one of our lovely committees! 🍜 \nThere will be 3 rounds and 3 courses\, consisting of an appetiser\, a main course and a dessert. \nThe costs of this activity will be €5\, and you can sign up through this link: https://forms.gle/2VnmWFk2s6EtGYTu7\nPlease fill in the google forms *before Friday\, the 31st of October*\, so that we can start finalising the evening. We will share the exact plans before Monday the 4th of November at 18:00.\nIf you’re unable to join\, please let us know before Wednesday\, the 6th of November. If you have any questions\, don’t hesitate to ask someone from the board! We hope to see you all there!🍸 \nLove\,\nthe Board
URL:https://www.svesperia.nl/event/running-dinner/
ORGANIZER;CN="Board":MAILTO:bestuur@svesperia.nl
END:VEVENT
BEGIN:VEVENT
DTSTART;TZID=Europe/Amsterdam:20241030T190000
DTEND;TZID=Europe/Amsterdam:20241030T220000
DTSTAMP:20260421T150001
CREATED:20241001T091853Z
LAST-MODIFIED:20241007T095753Z
UID:4174-1730314800-1730325600@www.svesperia.nl
SUMMARY:Think Tank + Activity
DESCRIPTION:Save the date: on the 30th of October the board organises a Think Tank and an activity. During a Think Tank you can ask questions and give input to the association. Together we can improve Esperia. If you have tips or if you just want to know more about the association AND you want to join the board activity\, make sure to join! \n(Location & Activity to be announced)
URL:https://www.svesperia.nl/event/think-tank-activity/
END:VEVENT
BEGIN:VEVENT
DTSTART;TZID=Europe/Amsterdam:20241021T200000
DTEND;TZID=Europe/Amsterdam:20241021T200000
DTSTAMP:20260421T150001
CREATED:20241001T091524Z
LAST-MODIFIED:20241001T092011Z
UID:4172-1729540800-1729540800@www.svesperia.nl
SUMMARY:Language Café (Languagecie)
DESCRIPTION:Save the date: The Lanuagecie organises the first Language Café of the academic year\, together with Clio\, ESN and Flanor. During the language Café you can chat with native speakers of the language you are learning or that you would like to learn. Come and have a chat over a beer or soda!
URL:https://www.svesperia.nl/event/language-cafe-languagecie/
LOCATION:De Drie Gezusters
ORGANIZER;CN="Languagecie":MAILTO:languagecie@svesperia.nl
END:VEVENT
BEGIN:VEVENT
DTSTART;TZID=Europe/Amsterdam:20241015T210000
DTEND;TZID=Europe/Amsterdam:20241015T233000
DTSTAMP:20260421T150001
CREATED:20241001T090742Z
LAST-MODIFIED:20241001T091040Z
UID:4167-1729026000-1729035000@www.svesperia.nl
SUMMARY:End Party (Introcie)
DESCRIPTION:❓= Halloween Party 🎃\n📌 = Café de Doos (Gelkingestraat 11)\n💸 = Completely FREE! 🤑\n🕗 = 15th of October 21:00 \nDear Esperians\, \nAs we are nearing the end of our first classes and entering exam season😭\, it is time for us to let loose once more before we hit the books! We are celebrating Halloween early at de Doos\, combining our monthly social with Introcie’s final event!🎃 Make sure to come in your favourite halloween costume and join us at de Doos to swing away those scary exam nerves! Come in your best character\, monster\, theme or festival (Oktoberfest anyone?) costume🧛 and show us your zombie dance skills!💃🧟 \nLove\, the Introcie and the Board 💞
URL:https://www.svesperia.nl/event/end-party-introcie/
END:VEVENT
BEGIN:VEVENT
DTSTART;TZID=Europe/Helsinki:20241003T193000
DTEND;TZID=Europe/Helsinki:20241003T213000
DTSTAMP:20260421T150001
CREATED:20240825T105021Z
LAST-MODIFIED:20240825T105021Z
UID:3991-1727983800-1727991000@www.svesperia.nl
SUMMARY:Pub Lecture
DESCRIPTION:Save the date! The Introcie has organised a pub lecture on the 3rd of October @ Kroeg van Klaas 19:30. Here you can learn about the ELC Topics while enjoying a drink and a chat with your (future) friends.
URL:https://www.svesperia.nl/event/pub-lecture-2/
LOCATION:kroeg van Klaas\, Oosterweg 26\, Groningen\, Groningen\, 9724 CJ
END:VEVENT
BEGIN:VEVENT
DTSTART;TZID=Europe/Helsinki:20240925T193000
DTEND;TZID=Europe/Helsinki:20240925T223000
DTSTAMP:20260421T150001
CREATED:20240825T104731Z
LAST-MODIFIED:20240825T104731Z
UID:3988-1727292600-1727303400@www.svesperia.nl
SUMMARY:Dinner
DESCRIPTION:Save the date: 25th of September 19:30! Halfway through the introduction period\, we will have a cosy Greek dinner at De Olijfboom\, where we can have a nice meal for €14\,50\,- pp. This is a good opportunity to sit down with our new friends and discuss the last few weeks with each other.
URL:https://www.svesperia.nl/event/dinner/
LOCATION:De Olijfboom\, Oosterstraat 40\, Groningen\, Groningen\, 9711 NV\, Netherlands
END:VEVENT
BEGIN:VEVENT
DTSTART;TZID=Europe/Helsinki:20240920T190000
DTEND;TZID=Europe/Helsinki:20240920T233000
DTSTAMP:20260421T150001
CREATED:20240825T103800Z
LAST-MODIFIED:20240910T153454Z
UID:3986-1726858800-1726875000@www.svesperia.nl
SUMMARY:Movie Night
DESCRIPTION:Hello first years and older members! \nWith some drinks\, blankets and of course snacks\, come join Esperia on our movie night! 🤩 Together we will pick a movie to watch through a poll in out WhatsApp group\, and have an evening of relaxation after the first few weeks (back) at university. 💪 We will have some snacks\, but please feel free to bring your own and don’t forget to bring blankets!\nWe hope to see you all on the 20th of September at 19:00 at ‘Humanistisch Verbond’! 🙌\nYou can sign up through the following link until the 19th of September (18:00): https://forms.gle/aooEFggmBSwPHc58A \nLove\, the Introcie💞
URL:https://www.svesperia.nl/event/movie-night/
LOCATION:Humanistisch Verbond\, W.A. Scholtenstraat 2\, Groningen\, Groningen\, 9712KW
END:VEVENT
BEGIN:VEVENT
DTSTART;TZID=Europe/Amsterdam:20240918T200000
DTEND;TZID=Europe/Amsterdam:20240918T220000
DTSTAMP:20260421T150001
CREATED:20240904T142627Z
LAST-MODIFIED:20240916T092110Z
UID:4023-1726689600-1726696800@www.svesperia.nl
SUMMARY:Committee Carousel
DESCRIPTION:Esperia will have 10 committees that will organise activities or produce articles and episodes. And you can be part of that! 🫵🏼 Joining a committee is a great way to get to know more people with similar interests\, make new friends\, learn new skills and have a lot of fun. We have something for everyone\, whether you are interested in sports\, writing\, academia\, editing\, yapping\, traveling\, acting or languages. 🎤📖⚽️💻 \nInterested? Or do you still have questions or are you unsure what committees or positions suits you best? We are organising a Committee Carousel 🎠 on the 18th of September at 20:00 at Kroeg van Klaas 👑. You can talk to former committee members and ask them any questions you might have. 🤔\nWe hope to see you all there!
URL:https://www.svesperia.nl/event/committee-carousel-2/
LOCATION:kroeg van Klaas\, Oosterweg 26\, Groningen\, Groningen\, 9724 CJ
ORGANIZER;CN="Board":MAILTO:bestuur@svesperia.nl
END:VEVENT
BEGIN:VEVENT
DTSTART;TZID=Europe/Amsterdam:20240911T210000
DTEND;TZID=Europe/Amsterdam:20240911T233000
DTSTAMP:20260421T150001
CREATED:20240903T140537Z
LAST-MODIFIED:20240904T142443Z
UID:4020-1726088400-1726097400@www.svesperia.nl
SUMMARY:Welcome Back Social
DESCRIPTION:We hope you had an amazing summer and are excited for the year and what’s to come. To properly kick off the year\, we would like to invite you to our traditional Welcome Back Social! 🥳🍻 \nThe theme of the social is going to be 2000! So grab your low rise jeans\, put some denim on denim and be ready for a great night! See you at the 11th of September in ‘T Gat 
URL:https://www.svesperia.nl/event/welcome-back-social-3/
END:VEVENT
BEGIN:VEVENT
DTSTART;TZID=Europe/Amsterdam:20240909T190000
DTEND;TZID=Europe/Amsterdam:20240909T220000
DTSTAMP:20260421T150001
CREATED:20240903T135325Z
LAST-MODIFIED:20240903T135325Z
UID:4000-1725908400-1725919200@www.svesperia.nl
SUMMARY:General Members Assembly
DESCRIPTION:We would like to invite you to the first General Members Assembly of this academic year! The GMA will take place on the 9th of September from 19:00 on in Café Wolthoorn. At this GMA\, Board XII will finally be installed\, marking once again a new beginning for Esperia. Make sure to be there to hear what the new board is planning for the upcoming year\, as well as share your opinions on some organisational matters. After all\, these decisions will directly affect you as a member!\nFeel free to ask questions regarding how a GMA works. We hope to see you all there!😁
URL:https://www.svesperia.nl/event/general-members-assembly-4/
LOCATION:Café Wolthoorn\, Turftorenstraat 6\, Groningen\, 9712 BP
ORGANIZER;CN="Board":MAILTO:bestuur@svesperia.nl
END:VEVENT
BEGIN:VEVENT
DTSTART;TZID=Europe/Amsterdam:20240904T200000
DTEND;TZID=Europe/Amsterdam:20240904T220000
DTSTAMP:20260421T150001
CREATED:20240825T103137Z
LAST-MODIFIED:20240825T103137Z
UID:3969-1725480000-1725487200@www.svesperia.nl
SUMMARY:Jeu-de-Boules
DESCRIPTION:Save the date! On the 4th of September we have the first activity (after the Introduction Camp) for this academic year: Jeu-de-Boules @BOEL\, starting time 20:00
URL:https://www.svesperia.nl/event/jeu-de-boules/
LOCATION:BOEL\, Nieuwe Ebbingestraat 163\, Groningen\, Groningen\, 9715BC\, Netherlands
END:VEVENT
END:VCALENDAR